BEGIN:VCALENDAR
VERSION:2.0
PRODID:-//Judi Kellar Ministries - ECPv4.9.12//NONSGML v1.0//EN
CALSCALE:GREGORIAN
METHOD:PUBLISH
X-WR-CALNAME:Judi Kellar Ministries
X-ORIGINAL-URL:http://judikellar.com
X-WR-CALDESC:Events for Judi Kellar Ministries
BEGIN:VTIMEZONE
TZID:America/Halifax
BEGIN:DAYLIGHT
TZOFFSETFROM:-0400
TZOFFSETTO:-0300
TZNAME:ADT
DTSTART:20170312T060000
END:DAYLIGHT
BEGIN:STANDARD
TZOFFSETFROM:-0300
TZOFFSETTO:-0400
TZNAME:AST
DTSTART:20171105T050000
END:STANDARD
END:VTIMEZONE
BEGIN:VEVENT
DTSTART;TZID=America/Halifax:20170723T180000
DTEND;TZID=America/Halifax:20170723T200000
DTSTAMP:20260423T002859
CREATED:20170630T210316Z
LAST-MODIFIED:20170715T061854Z
UID:142-1500832800-1500840000@judikellar.com
SUMMARY:Wolf Creek Baptist Church
DESCRIPTION:
URL:http://judikellar.com/event/wolf-creek-baptist-church/
LOCATION:Wolf Creek Baptist Church\, 5225 Wolf Creek Road\, Spring City\, TN\, 37381\, United States
END:VEVENT
END:VCALENDAR