BEGIN:VCALENDAR
VERSION:2.0
PRODID:-//Judi Kellar Ministries - ECPv4.9.12//NONSGML v1.0//EN
CALSCALE:GREGORIAN
METHOD:PUBLISH
X-WR-CALNAME:Judi Kellar Ministries
X-ORIGINAL-URL:http://judikellar.com
X-WR-CALDESC:Events for Judi Kellar Ministries
BEGIN:VTIMEZONE
TZID:UTC
BEGIN:STANDARD
TZOFFSETFROM:+0000
TZOFFSETTO:+0000
TZNAME:UTC
DTSTART:20170101T000000
END:STANDARD
END:VTIMEZONE
BEGIN:VEVENT
DTSTART;VALUE=DATE:20171027
DTEND;VALUE=DATE:20171029
DTSTAMP:20260423T003037
CREATED:20170921T220759Z
LAST-MODIFIED:20170921T220939Z
UID:313-1509062400-1509235199@judikellar.com
SUMMARY:The Talleys Empower Conference
DESCRIPTION:
URL:http://judikellar.com/event/the-talleys-empower-conference/
LOCATION:Sevierville Civic Center\, 200 Gary R Wade Blvd.\, Sevierville\, TN\, 37862\, United States
END:VEVENT
END:VCALENDAR