BEGIN:VCALENDAR
VERSION:2.0
PRODID:-//Judi Kellar Ministries - ECPv4.9.12//NONSGML v1.0//EN
CALSCALE:GREGORIAN
METHOD:PUBLISH
X-WR-CALNAME:Judi Kellar Ministries
X-ORIGINAL-URL:http://judikellar.com
X-WR-CALDESC:Events for Judi Kellar Ministries
BEGIN:VTIMEZONE
TZID:America/New_York
BEGIN:DAYLIGHT
TZOFFSETFROM:-0500
TZOFFSETTO:-0400
TZNAME:EDT
DTSTART:20230312T070000
END:DAYLIGHT
BEGIN:STANDARD
TZOFFSETFROM:-0400
TZOFFSETTO:-0500
TZNAME:EST
DTSTART:20231105T060000
END:STANDARD
END:VTIMEZONE
BEGIN:VEVENT
DTSTART;TZID=America/New_York:20231021T110000
DTEND;TZID=America/New_York:20231021T113000
DTSTAMP:20260422T225346
CREATED:20231025T015317Z
LAST-MODIFIED:20231025T015424Z
UID:519-1697886000-1697887800@judikellar.com
SUMMARY:October Sky Fall Festival
DESCRIPTION:Saturday\, October 21\, 2023\, at 11:00 a.m. – 11:30 a.m.\nOctober Sky Fall Festival\n419 Kingston Avenue Oliver Springs\, TN. \n
URL:http://judikellar.com/event/october-sky-fall-festival/
LOCATION:October Sky Fall Festival\, 419 Kingston Ave\, Oliver Springs\, TN\, 37840\, United States
END:VEVENT
END:VCALENDAR