BEGIN:VCALENDAR
VERSION:2.0
PRODID:-//Judi Kellar Ministries - ECPv4.9.12//NONSGML v1.0//EN
CALSCALE:GREGORIAN
METHOD:PUBLISH
X-WR-CALNAME:Judi Kellar Ministries
X-ORIGINAL-URL:http://judikellar.com
X-WR-CALDESC:Events for Judi Kellar Ministries
BEGIN:VTIMEZONE
TZID:America/New_York
BEGIN:DAYLIGHT
TZOFFSETFROM:-0500
TZOFFSETTO:-0400
TZNAME:EDT
DTSTART:20200308T070000
END:DAYLIGHT
BEGIN:STANDARD
TZOFFSETFROM:-0400
TZOFFSETTO:-0500
TZNAME:EST
DTSTART:20201101T060000
END:STANDARD
END:VTIMEZONE
BEGIN:VEVENT
DTSTART;TZID=America/New_York:20200712T104500
DTEND;TZID=America/New_York:20200712T120000
DTSTAMP:20260422T230931
CREATED:20200623T162957Z
LAST-MODIFIED:20200623T162957Z
UID:439-1594550700-1594555200@judikellar.com
SUMMARY:Main Street Baptist Church
DESCRIPTION:Sunday\, July 12\, 2020\nTime:  10:45 a.m. – 12:00 Noon (EDT) \nMain Street Baptist Church\n215 Fourth Street\nRocky Top\, TN 37769\nPhone:  (865) 426-2184 \n
URL:http://judikellar.com/event/main-street-baptist-church/
LOCATION:Main Street Baptist Church\, 215 Fourth Street\, Rocky Top\, TN\, 37769\, United States
END:VEVENT
END:VCALENDAR