BEGIN:VCALENDAR
VERSION:2.0
PRODID:-//Judi Kellar Ministries - ECPv4.9.12//NONSGML v1.0//EN
CALSCALE:GREGORIAN
METHOD:PUBLISH
X-WR-CALNAME:Judi Kellar Ministries
X-ORIGINAL-URL:http://judikellar.com
X-WR-CALDESC:Events for Judi Kellar Ministries
BEGIN:VTIMEZONE
TZID:America/New_York
BEGIN:DAYLIGHT
TZOFFSETFROM:-0500
TZOFFSETTO:-0400
TZNAME:EDT
DTSTART:20230312T070000
END:DAYLIGHT
BEGIN:STANDARD
TZOFFSETFROM:-0400
TZOFFSETTO:-0500
TZNAME:EST
DTSTART:20231105T060000
END:STANDARD
END:VTIMEZONE
BEGIN:VEVENT
DTSTART;TZID=America/New_York:20230819T180000
DTEND;TZID=America/New_York:20230819T180000
DTSTAMP:20260423T003047
CREATED:20230727T134640Z
LAST-MODIFIED:20230727T143340Z
UID:499-1692468000-1692468000@judikellar.com
SUMMARY:Lone Oak Baptist Church
DESCRIPTION:Saturday\, August 19\, 2023 Starts at 6:00 PM\nLone Oak Baptist Church\nBenefit / Fundraiser For Children’s Hospital\n831 West Lamar Alexander Parkway\nMaryville\, TN 37801 \n
URL:http://judikellar.com/event/love-oak-baptist-church/
LOCATION:Lone Oak Baptist Church\, 831 West Lamar Alexander Parkway\, Maryville\, TN\, 37801\, United States
END:VEVENT
END:VCALENDAR