BEGIN:VCALENDAR
VERSION:2.0
PRODID:-//Judi Kellar Ministries - ECPv4.9.12//NONSGML v1.0//EN
CALSCALE:GREGORIAN
METHOD:PUBLISH
X-WR-CALNAME:Judi Kellar Ministries
X-ORIGINAL-URL:http://judikellar.com
X-WR-CALDESC:Events for Judi Kellar Ministries
BEGIN:VTIMEZONE
TZID:America/New_York
BEGIN:DAYLIGHT
TZOFFSETFROM:-0500
TZOFFSETTO:-0400
TZNAME:EDT
DTSTART:20250309T070000
END:DAYLIGHT
BEGIN:STANDARD
TZOFFSETFROM:-0400
TZOFFSETTO:-0500
TZNAME:EST
DTSTART:20251102T060000
END:STANDARD
END:VTIMEZONE
BEGIN:VEVENT
DTSTART;TZID=America/New_York:20250508T180000
DTEND;TZID=America/New_York:20250510T000000
DTSTAMP:20260422T212801
CREATED:20250310T171753Z
LAST-MODIFIED:20250310T171753Z
UID:562-1746727200-1746835200@judikellar.com
SUMMARY:Gospel Music FanFair
DESCRIPTION:Thursday\, May 8\, 2025 thru Saturday\, May 10\, 2025\n 2025 Gospel Music FanFair\nFayette Civic Center\n530 Temple Avenue North\nFayette\, AL. 35555\nPhone:  (205) 662-4826 or (205) 270-0538\nEvent:  Gospel Music FanFair includes Daily Showcases\, Afternoon Matinees\, and Evening Concerts;\nFan Awards Show on Saturday\, May 10\, 2025\, at 6:00 p.m.\nGeneral Seating; No Admission Charge \n
URL:http://judikellar.com/event/gospel-music-fanfair/
LOCATION:Fayette Civic Center\, 530 Temple Avenue North\, Fayette\, AL\, 35555\, United States
END:VEVENT
END:VCALENDAR