BEGIN:VCALENDAR
VERSION:2.0
PRODID:-//Judi Kellar Ministries - ECPv4.9.12//NONSGML v1.0//EN
CALSCALE:GREGORIAN
METHOD:PUBLISH
X-WR-CALNAME:Judi Kellar Ministries
X-ORIGINAL-URL:http://judikellar.com
X-WR-CALDESC:Events for Judi Kellar Ministries
BEGIN:VTIMEZONE
TZID:America/Halifax
BEGIN:DAYLIGHT
TZOFFSETFROM:-0400
TZOFFSETTO:-0300
TZNAME:ADT
DTSTART:20170312T060000
END:DAYLIGHT
BEGIN:STANDARD
TZOFFSETFROM:-0300
TZOFFSETTO:-0400
TZNAME:AST
DTSTART:20171105T050000
END:STANDARD
END:VTIMEZONE
BEGIN:VEVENT
DTSTART;TZID=America/Halifax:20170723T100000
DTEND;TZID=America/Halifax:20170723T100000
DTSTAMP:20260423T003911
CREATED:20170630T210632Z
LAST-MODIFIED:20170630T210942Z
UID:145-1500804000-1500804000@judikellar.com
SUMMARY:Friendship Baptist Church
DESCRIPTION:
URL:http://judikellar.com/event/friendship-baptist-church/
LOCATION:Friendship Baptist Church\, 8307 Ball Camp Pike\, Knoxville\, TN\, 37931\, United States
END:VEVENT
END:VCALENDAR