BEGIN:VCALENDAR
VERSION:2.0
PRODID:-//Judi Kellar Ministries - ECPv4.9.12//NONSGML v1.0//EN
CALSCALE:GREGORIAN
METHOD:PUBLISH
X-WR-CALNAME:Judi Kellar Ministries
X-ORIGINAL-URL:http://judikellar.com
X-WR-CALDESC:Events for Judi Kellar Ministries
BEGIN:VTIMEZONE
TZID:America/New_York
BEGIN:DAYLIGHT
TZOFFSETFROM:-0500
TZOFFSETTO:-0400
TZNAME:EDT
DTSTART:20220313T070000
END:DAYLIGHT
BEGIN:STANDARD
TZOFFSETFROM:-0400
TZOFFSETTO:-0500
TZNAME:EST
DTSTART:20221106T060000
END:STANDARD
END:VTIMEZONE
BEGIN:VEVENT
DTSTART;TZID=America/New_York:20220904T180000
DTEND;TZID=America/New_York:20220904T193000
DTSTAMP:20260423T003216
CREATED:20220803T180253Z
LAST-MODIFIED:20220803T180253Z
UID:453-1662314400-1662319800@judikellar.com
SUMMARY:Freedom to Worship Pentecostal Church
DESCRIPTION:Sunday\, September 4\, 2022\, 6:00 p.m. to 7:30 p.m.\nFreedom to Worship Pentecostal Church\n2013 Old Knoxville Pike\nMaryville\, TN 37804 \n
URL:http://judikellar.com/event/freedom-to-worship-pentecostal-church/
LOCATION:Freedom to Worship Pentecostal Church\, 2013 Old Knoxville Pike\, Maryville\, TN\, 37804\, United States
END:VEVENT
END:VCALENDAR