BEGIN:VCALENDAR
VERSION:2.0
PRODID:-//Judi Kellar Ministries - ECPv4.9.12//NONSGML v1.0//EN
CALSCALE:GREGORIAN
METHOD:PUBLISH
X-WR-CALNAME:Judi Kellar Ministries
X-ORIGINAL-URL:http://judikellar.com
X-WR-CALDESC:Events for Judi Kellar Ministries
BEGIN:VTIMEZONE
TZID:America/New_York
BEGIN:DAYLIGHT
TZOFFSETFROM:-0500
TZOFFSETTO:-0400
TZNAME:EDT
DTSTART:20230312T070000
END:DAYLIGHT
BEGIN:STANDARD
TZOFFSETFROM:-0400
TZOFFSETTO:-0500
TZNAME:EST
DTSTART:20231105T060000
END:STANDARD
END:VTIMEZONE
BEGIN:VEVENT
DTSTART;TZID=America/New_York:20230909T103000
DTEND;TZID=America/New_York:20230909T103000
DTSTAMP:20260422T230914
CREATED:20230727T134855Z
LAST-MODIFIED:20230727T135152Z
UID:502-1694255400-1694255400@judikellar.com
SUMMARY:Fall Festival Tractor & Car Show
DESCRIPTION:Saturday\, September 9\, 2023 Starts at 10:30 AM\nFall Festival Tractor & Car Show\nHeiskell\, TN \nSponsored by Fairview Freewill Baptist Church \nLocation: From Norris Freeway take Hines Creek Road East. Go about 1/4 mile. Festival on right. \n
URL:http://judikellar.com/event/fall-festival-tractor-car-show/
END:VEVENT
END:VCALENDAR