BEGIN:VCALENDAR
VERSION:2.0
PRODID:-//Judi Kellar Ministries - ECPv4.9.12//NONSGML v1.0//EN
CALSCALE:GREGORIAN
METHOD:PUBLISH
X-WR-CALNAME:Judi Kellar Ministries
X-ORIGINAL-URL:http://judikellar.com
X-WR-CALDESC:Events for Judi Kellar Ministries
BEGIN:VTIMEZONE
TZID:America/New_York
BEGIN:DAYLIGHT
TZOFFSETFROM:-0500
TZOFFSETTO:-0400
TZNAME:EDT
DTSTART:20240310T070000
END:DAYLIGHT
BEGIN:STANDARD
TZOFFSETFROM:-0400
TZOFFSETTO:-0500
TZNAME:EST
DTSTART:20241103T060000
END:STANDARD
END:VTIMEZONE
BEGIN:VEVENT
DTSTART;TZID=America/New_York:20241206T160000
DTEND;TZID=America/New_York:20241206T200000
DTSTAMP:20260422T230442
CREATED:20241111T234835Z
LAST-MODIFIED:20241111T234835Z
UID:553-1733500800-1733515200@judikellar.com
SUMMARY:“Christmas on the Hill” sponsored by the Campbell County Christian Learning Center
DESCRIPTION:Date: Friday\, December 6\, 2024\nTime of Event: 4:00 pm – 8:00 pm\nEvent: “Christmas on the Hill” sponsored by the Campbell County Christian Learning Center\nLocation: Hillcrest Baptist Church\, 140 Claiborne Lane\, Jacksboro\, TN. 37757 \nNote: Judi will be singing music from her “Christmas Joy” album!\n(Please visit the Facebook site of the Campbell County Christian Learning Center for all details of the event activities!) \n
URL:http://judikellar.com/event/christmas-on-the-hill-sponsored-by-the-campbell-county-christian-learning-center/
LOCATION:Hillcrest Baptist Church\, 140 Claiborne Lane\, Jacksboro\, TN\, 37757\, United States
END:VEVENT
END:VCALENDAR