BEGIN:VCALENDAR
VERSION:2.0
PRODID:-//Judi Kellar Ministries - ECPv4.9.12//NONSGML v1.0//EN
CALSCALE:GREGORIAN
METHOD:PUBLISH
X-WR-CALNAME:Judi Kellar Ministries
X-ORIGINAL-URL:http://judikellar.com
X-WR-CALDESC:Events for Judi Kellar Ministries
BEGIN:VTIMEZONE
TZID:America/New_York
BEGIN:DAYLIGHT
TZOFFSETFROM:-0500
TZOFFSETTO:-0400
TZNAME:EDT
DTSTART:20240310T070000
END:DAYLIGHT
BEGIN:STANDARD
TZOFFSETFROM:-0400
TZOFFSETTO:-0500
TZNAME:EST
DTSTART:20241103T060000
END:STANDARD
END:VTIMEZONE
BEGIN:VEVENT
DTSTART;TZID=America/New_York:20240825T110000
DTEND;TZID=America/New_York:20240825T120000
DTSTAMP:20260422T215044
CREATED:20240823T160532Z
LAST-MODIFIED:20240823T160824Z
UID:538-1724583600-1724587200@judikellar.com
SUMMARY:Blowing Springs Baptist Church
DESCRIPTION:Sunday\, August 25\, 2024\n11:00 a.m. – 12:00 p.m. \nBlowing Springs Baptist Church\n119 Blowing Springs Lane\nClinton\, TN. 37716 \n
URL:http://judikellar.com/event/blowing-springs-baptist-church-2/
END:VEVENT
END:VCALENDAR