BEGIN:VCALENDAR
VERSION:2.0
PRODID:-//Judi Kellar Ministries - ECPv4.9.12//NONSGML v1.0//EN
CALSCALE:GREGORIAN
METHOD:PUBLISH
X-WR-CALNAME:Judi Kellar Ministries
X-ORIGINAL-URL:http://judikellar.com
X-WR-CALDESC:Events for Judi Kellar Ministries
BEGIN:VTIMEZONE
TZID:UTC
BEGIN:STANDARD
TZOFFSETFROM:+0000
TZOFFSETTO:+0000
TZNAME:UTC
DTSTART:20190101T000000
END:STANDARD
END:VTIMEZONE
BEGIN:VEVENT
DTSTART;TZID=UTC:20190707T110000
DTEND;TZID=UTC:20190707T120000
DTSTAMP:20260423T002621
CREATED:20190701T013603Z
LAST-MODIFIED:20190701T013603Z
UID:391-1562497200-1562500800@judikellar.com
SUMMARY:Beaumont Ave Baptist Church
DESCRIPTION:
URL:http://judikellar.com/event/beaumont-ave-baptist-church/
LOCATION:Beaumont Ave. Baptist Church\, 1502 Beaumont Ave\, Knoxville\, TN\, 37921\, United States
END:VEVENT
END:VCALENDAR