BEGIN:VCALENDAR
VERSION:2.0
PRODID:-//Judi Kellar Ministries - ECPv4.9.12//NONSGML v1.0//EN
CALSCALE:GREGORIAN
METHOD:PUBLISH
X-WR-CALNAME:Judi Kellar Ministries
X-ORIGINAL-URL:http://judikellar.com
X-WR-CALDESC:Events for Judi Kellar Ministries
BEGIN:VTIMEZONE
TZID:America/New_York
BEGIN:DAYLIGHT
TZOFFSETFROM:-0500
TZOFFSETTO:-0400
TZNAME:EDT
DTSTART:20250309T070000
END:DAYLIGHT
BEGIN:STANDARD
TZOFFSETFROM:-0400
TZOFFSETTO:-0500
TZNAME:EST
DTSTART:20251102T060000
END:STANDARD
END:VTIMEZONE
BEGIN:VEVENT
DTSTART;TZID=America/New_York:20250529T103000
DTEND;TZID=America/New_York:20250531T180000
DTSTAMP:20260422T225747
CREATED:20250310T172444Z
LAST-MODIFIED:20250310T172444Z
UID:565-1748514600-1748714400@judikellar.com
SUMMARY:"A New Season" Gospel Concert - 3 Days of Ministry
DESCRIPTION:Thursday\, May 29\, 2025\, thru Saturday\, May 31\, 2025\,\n“A New Season” Gospel Concert – 3 Days of Ministry\nLocation:  The Harlan Center\n201 S. Main Street\nHarlan\, Kentucky  40831\nPhone:  (606) 573-4495\nEvent:   “A New Season” Gospel Concert sponsored by Patterson Promotions\nMorning Services start at 10:30 a.m.\nEvening Concerts start at 6:00 p.m.\nGeneral Seating; No Admission Charge \n
URL:http://judikellar.com/event/a-new-season-gospel-concert-3-days-of-ministry/
LOCATION:The Harlan Center\, 201 S. Main Street\, Harlan\, KY\, 40831\, United States
END:VEVENT
END:VCALENDAR